BEGIN:VCALENDAR
VERSION:2.0
PRODID:-//Tanzschule Drehmoment - ECPv4.6.25//NONSGML v1.0//EN
CALSCALE:GREGORIAN
METHOD:PUBLISH
X-WR-CALNAME:Tanzschule Drehmoment
X-ORIGINAL-URL:https://tanzschule-drehmoment.at
X-WR-CALDESC:Veranstaltungen für Tanzschule Drehmoment
BEGIN:VEVENT
DTSTART;TZID=UTC+0:20201104T200000
DTEND;TZID=UTC+0:20201104T214000
DTSTAMP:20260426T020951
CREATED:20200605T102942Z
LAST-MODIFIED:20201008T113932Z
UID:17235-1604520000-1604526000@tanzschule-drehmoment.at
SUMMARY:Discofox für Fortgeschrittene 1
DESCRIPTION:Irene & Stefan freuen sich auf Dich! \n
URL:https://tanzschule-drehmoment.at/event/discofox-fuer-fortgeschrittene-1/2020-11-04/
LOCATION:Arche Egg\, Pfarrhof 869\, Egg\, Vorarlberg\, 6863\, Österreich
CATEGORIES:Discofox Fortgeschrittene
END:VEVENT
END:VCALENDAR