BEGIN:VCALENDAR
VERSION:2.0
PRODID:-//Tanzschule Drehmoment - ECPv4.6.25//NONSGML v1.0//EN
CALSCALE:GREGORIAN
METHOD:PUBLISH
X-WR-CALNAME:Tanzschule Drehmoment
X-ORIGINAL-URL:https://tanzschule-drehmoment.at
X-WR-CALDESC:Veranstaltungen für Tanzschule Drehmoment
BEGIN:VEVENT
DTSTART;TZID=Europe/Vienna:20251112T200000
DTEND;TZID=Europe/Vienna:20251112T210000
DTSTAMP:20260425T104432
CREATED:20250926T122457Z
LAST-MODIFIED:20251005T181149Z
UID:20391-1762977600-1762981200@tanzschule-drehmoment.at
SUMMARY:Fit im Gstell mit Felix
DESCRIPTION:Felix freut ich auf Dich! \n
URL:https://tanzschule-drehmoment.at/event/fit-im-gstell-mit-felix-5/2025-11-12/
LOCATION:Tanzschule Drehmoment – Seminarräumle Schwarzenberg\, Beien 1024\, Schwarzenberg\, 6867\, Österreich
CATEGORIES:Fit im Gstell
END:VEVENT
END:VCALENDAR