BEGIN:VCALENDAR
VERSION:2.0
PRODID:-//Tanzschule Drehmoment - ECPv4.6.25//NONSGML v1.0//EN
CALSCALE:GREGORIAN
METHOD:PUBLISH
X-WR-CALNAME:Tanzschule Drehmoment
X-ORIGINAL-URL:https://tanzschule-drehmoment.at
X-WR-CALDESC:Veranstaltungen für Tanzschule Drehmoment
BEGIN:VEVENT
DTSTART;TZID=Europe/Vienna:20260114T200000
DTEND;TZID=Europe/Vienna:20260114T210000
DTSTAMP:20260420T081117
CREATED:20251020T123128Z
LAST-MODIFIED:20251020T123128Z
UID:20445-1768420800-1768424400@tanzschule-drehmoment.at
SUMMARY:Fit im Gstell mit Felix
DESCRIPTION:Bringe eine Turnmatte (Yogamatte) mit in die Einheiten!\nFelix freut sich auf Dich! \n
URL:https://tanzschule-drehmoment.at/event/fit-im-gstell-mit-felix-6/2026-01-14/
LOCATION:Tanzschule Drehmoment – Seminarräumle Schwarzenberg\, Beien 1024\, Schwarzenberg\, 6867\, Österreich
CATEGORIES:Fit im Gstell
END:VEVENT
END:VCALENDAR