BEGIN:VCALENDAR
VERSION:2.0
PRODID:-//Tanzschule Drehmoment - ECPv4.6.25//NONSGML v1.0//EN
CALSCALE:GREGORIAN
METHOD:PUBLISH
X-WR-CALNAME:Tanzschule Drehmoment
X-ORIGINAL-URL:https://tanzschule-drehmoment.at
X-WR-CALDESC:Veranstaltungen für Tanzschule Drehmoment
BEGIN:VEVENT
DTSTART;TZID=UTC+0:20200918T200000
DTEND;TZID=UTC+0:20200918T211500
DTSTAMP:20260419T173216
CREATED:20200605T094929Z
LAST-MODIFIED:20200817T062510Z
UID:17184-1600459200-1600463700@tanzschule-drehmoment.at
SUMMARY:Linedance für leicht Fortgeschrittene 3
DESCRIPTION:Voraussetzung für die Teilnahme ist der Linedancekurs für leicht Fortgeschrittene 2.\nClaudia freut sich auf Dich! \n
URL:https://tanzschule-drehmoment.at/event/linedance-fuer-leicht-fortgeschrittene-3-2/2020-09-18/
LOCATION:Gemeindesaal Reuthe\, Vorderreuthe 139\, Reuthe\, Vorarlberg\, 6870\, Österreich
CATEGORIES:Linedance
END:VEVENT
END:VCALENDAR