BEGIN:VCALENDAR
VERSION:2.0
PRODID:-//Tanzschule Drehmoment - ECPv4.6.25//NONSGML v1.0//EN
CALSCALE:GREGORIAN
METHOD:PUBLISH
X-WR-CALNAME:Tanzschule Drehmoment
X-ORIGINAL-URL:https://tanzschule-drehmoment.at
X-WR-CALDESC:Veranstaltungen für Tanzschule Drehmoment
BEGIN:VEVENT
DTSTART;TZID=Europe/Vienna:20260415T200000
DTEND;TZID=Europe/Vienna:20260415T213000
DTSTAMP:20260420T081928
CREATED:20260402T091557Z
LAST-MODIFIED:20260402T212817Z
UID:20779-1776283200-1776288600@tanzschule-drehmoment.at
SUMMARY:Salsa für Anfänger 2
DESCRIPTION:Waltraud & Arthur freuen sich auf Dich! \nDieser Kurs ist für Tänzer:innen aus einem Anfängerkurs.\nEs besteht jedoch auch die Möglichkeit\, als Anfänger:in ein zu steigen. \nAuch Einzelanmeldungen sind willkommen! \n
URL:https://tanzschule-drehmoment.at/event/salsa-fuer-anfaenger-2-3/2026-04-15/
LOCATION:Tanzschule Drehmoment – Seminarräumle Schwarzenberg\, Beien 1024\, Schwarzenberg\, 6867\, Österreich
CATEGORIES:Salsa
END:VEVENT
END:VCALENDAR