BEGIN:VCALENDAR
VERSION:2.0
PRODID:-//Tanzschule Drehmoment - ECPv4.6.25//NONSGML v1.0//EN
CALSCALE:GREGORIAN
METHOD:PUBLISH
X-WR-CALNAME:Tanzschule Drehmoment
X-ORIGINAL-URL:https://tanzschule-drehmoment.at
X-WR-CALDESC:Veranstaltungen für Tanzschule Drehmoment
BEGIN:VEVENT
DTSTART;TZID=Europe/Vienna:20260408T200000
DTEND;TZID=Europe/Vienna:20260408T213000
DTSTAMP:20260424T083106
CREATED:20260220T210410Z
LAST-MODIFIED:20260220T210410Z
UID:20697-1775678400-1775683800@tanzschule-drehmoment.at
SUMMARY:Salsa für Anfänger
DESCRIPTION:Waltraud & Arthur freuen sich auf Dich! \n
URL:https://tanzschule-drehmoment.at/event/salsa-fuer-anfaenger-2/2026-04-08/
LOCATION:Tanzschule Drehmoment – Seminarräumle Schwarzenberg\, Beien 1024\, Schwarzenberg\, 6867\, Österreich
CATEGORIES:Salsa,Salsa,Salsa Workshop
END:VEVENT
END:VCALENDAR