BEGIN:VCALENDAR
VERSION:2.0
PRODID:-//Tanzschule Drehmoment - ECPv4.6.25//NONSGML v1.0//EN
CALSCALE:GREGORIAN
METHOD:PUBLISH
X-WR-CALNAME:Tanzschule Drehmoment
X-ORIGINAL-URL:https://tanzschule-drehmoment.at
X-WR-CALDESC:Veranstaltungen für Tanzschule Drehmoment
BEGIN:VEVENT
DTSTART;TZID=Europe/Vienna:20260210T181500
DTEND;TZID=Europe/Vienna:20260210T193000
DTSTAMP:20260424T082742
CREATED:20251201T063925Z
LAST-MODIFIED:20251201T063925Z
UID:20537-1770747300-1770751800@tanzschule-drehmoment.at
SUMMARY:Discofox (und Walzer) für Anfänger & Auffrischer
DESCRIPTION:Ist der Walzer auch gewünscht?\nDa passe ich mich gerne der Gruppe an. \nRosa freut sich auf Euch! \n
URL:https://tanzschule-drehmoment.at/event/discofox-und-walzer-fuer-anfaenger-auffrischer/2026-02-10/
LOCATION:Tanzschule Drehmoment – Seminarräumle Schwarzenberg\, Beien 1024\, Schwarzenberg\, 6867\, Österreich
CATEGORIES:Discofox Anfänger,Walzer & Discofox Grundkurs (ideal auch für Brautpaare)
END:VEVENT
BEGIN:VEVENT
DTSTART;TZID=Europe/Vienna:20260210T181500
DTEND;TZID=Europe/Vienna:20260210T193000
DTSTAMP:20260424T082742
CREATED:20251204T140218Z
LAST-MODIFIED:20251204T140315Z
UID:20558-1770747300-1770751800@tanzschule-drehmoment.at
SUMMARY:Linedance für leicht Fortgeschrittene 1
DESCRIPTION:Rosa freut sich auf Dich! \n
URL:https://tanzschule-drehmoment.at/event/linedance-fuer-leicht-fortgeschrittene-1-9/2026-02-10/
LOCATION:Tanzschule Drehmoment – Seminarräumle Schwarzenberg\, Beien 1024\, Schwarzenberg\, 6867\, Österreich
CATEGORIES:Linedance
END:VEVENT
BEGIN:VEVENT
DTSTART;TZID=Europe/Vienna:20260210T200000
DTEND;TZID=Europe/Vienna:20260210T220000
DTSTAMP:20260424T082742
CREATED:20260103T093958Z
LAST-MODIFIED:20260209T093750Z
UID:20611-1770753600-1770760800@tanzschule-drehmoment.at
SUMMARY:Discofox Auffrischungsabend
DESCRIPTION:Rosa freut sich auf Euch! \n
URL:https://tanzschule-drehmoment.at/event/discofox-auffrischungsabend-2/
LOCATION:Tanzschule Drehmoment – Seminarräumle Schwarzenberg\, Beien 1024\, Schwarzenberg\, 6867\, Österreich
CATEGORIES:Discofox Auffrischungsabend
END:VEVENT
END:VCALENDAR