BEGIN:VCALENDAR
VERSION:2.0
PRODID:-//Tanzschule Drehmoment - ECPv4.6.25//NONSGML v1.0//EN
CALSCALE:GREGORIAN
METHOD:PUBLISH
X-WR-CALNAME:Tanzschule Drehmoment
X-ORIGINAL-URL:https://tanzschule-drehmoment.at
X-WR-CALDESC:Veranstaltungen für Tanzschule Drehmoment
BEGIN:VEVENT
DTSTART;TZID=Europe/Vienna:20260312T200000
DTEND;TZID=Europe/Vienna:20260312T213000
DTSTAMP:20260424T082851
CREATED:20251204T135342Z
LAST-MODIFIED:20260206T204626Z
UID:20551-1773345600-1773351000@tanzschule-drehmoment.at
SUMMARY:Discofox für leicht Fortgeschrittene
DESCRIPTION:Rosa & Wilhelm freuen sich auf Dich! \n
URL:https://tanzschule-drehmoment.at/event/discofox-fuer-leicht-fortgeschrittene-9/2026-03-12/
LOCATION:Tanzschule Drehmoment – Seminarräumle Schwarzenberg\, Beien 1024\, Schwarzenberg\, 6867\, Österreich
CATEGORIES:Discofox leicht Fortgeschrittene
END:VEVENT
END:VCALENDAR