BEGIN:VCALENDAR
VERSION:2.0
PRODID:-//Tanzschule Drehmoment - ECPv4.6.25//NONSGML v1.0//EN
CALSCALE:GREGORIAN
METHOD:PUBLISH
X-WR-CALNAME:Tanzschule Drehmoment
X-ORIGINAL-URL:https://tanzschule-drehmoment.at
X-WR-CALDESC:Veranstaltungen für Tanzschule Drehmoment
BEGIN:VEVENT
DTSTART;TZID=Europe/Vienna:20260324T180000
DTEND;TZID=Europe/Vienna:20260324T193000
DTSTAMP:20260424T082634
CREATED:20260122T194240Z
LAST-MODIFIED:20260122T194722Z
UID:20623-1774375200-1774380600@tanzschule-drehmoment.at
SUMMARY:Boarisch\, Marsch & Discofox im BSBZ
DESCRIPTION:Rosa & Wilhelm freuen sich auf Euch! \n
URL:https://tanzschule-drehmoment.at/event/boarisch-marsch-discofox-im-bsbz/2026-03-24/
LOCATION:BSBZ Hohenems\, Reinhofstraße 16\, 6845 Hohenems\, 6870\, Österreich
CATEGORIES:Traditionelle Tänze
END:VEVENT
BEGIN:VEVENT
DTSTART;TZID=Europe/Vienna:20260324T181500
DTEND;TZID=Europe/Vienna:20260324T193000
DTSTAMP:20260424T082634
CREATED:20251213T091710Z
LAST-MODIFIED:20251213T091730Z
UID:20596-1774376100-1774380600@tanzschule-drehmoment.at
SUMMARY:Linedance für Fortgeschrittene (Folgekurs Egg - nun in Schwarzenberg)
DESCRIPTION:Diesmal findet dieser Kurs in Schwarzenberg statt –\nRosa freut sich auf ein gelegentliches Wiedersehen in unserem Seminarräumle! \nDANKE für Eure Flexibilität! \nKursleiterin Claudia freut sich auf Euch! \n
URL:https://tanzschule-drehmoment.at/event/linedance-fuer-fortgeschrittene-folgekurs-egg/2026-03-24/
LOCATION:Tanzschule Drehmoment – Seminarräumle Schwarzenberg\, Beien 1024\, Schwarzenberg\, 6867\, Österreich
CATEGORIES:Linedance
END:VEVENT
BEGIN:VEVENT
DTSTART;TZID=Europe/Vienna:20260324T200000
DTEND;TZID=Europe/Vienna:20260324T211500
DTSTAMP:20260424T082634
CREATED:20251210T052531Z
LAST-MODIFIED:20251210T052531Z
UID:20583-1774382400-1774386900@tanzschule-drehmoment.at
SUMMARY:Linedance für leicht Fortgeschrittene 2
DESCRIPTION:Karin freut sich auf Euch! \n
URL:https://tanzschule-drehmoment.at/event/linedance-fuer-leicht-fortgeschrittene-2-10/2026-03-24/
LOCATION:Schoppernau Gemeindesaal\, Schoppernau\, Österreich
CATEGORIES:Linedance
END:VEVENT
END:VCALENDAR