BEGIN:VCALENDAR
VERSION:2.0
PRODID:-//Tanzschule Drehmoment - ECPv4.6.25//NONSGML v1.0//EN
CALSCALE:GREGORIAN
METHOD:PUBLISH
X-WR-CALNAME:Tanzschule Drehmoment
X-ORIGINAL-URL:https://tanzschule-drehmoment.at
X-WR-CALDESC:Veranstaltungen für Tanzschule Drehmoment
BEGIN:VEVENT
DTSTART;TZID=Europe/Vienna:20260609T200000
DTEND;TZID=Europe/Vienna:20260609T213000
DTSTAMP:20260420T131724
CREATED:20260411T085308Z
LAST-MODIFIED:20260411T085335Z
UID:20835-1781035200-1781040600@tanzschule-drehmoment.at
SUMMARY:Discofox für leicht Fortgeschrittene
DESCRIPTION:Rosa freut sich auf Euch! \n
URL:https://tanzschule-drehmoment.at/event/discofox-fuer-leicht-fortgeschrittene-10/2026-06-09/
LOCATION:Tanzschule Drehmoment – Seminarräumle Schwarzenberg\, Beien 1024\, Schwarzenberg\, 6867\, Österreich
CATEGORIES:Discofox leicht Fortgeschrittene
END:VEVENT
END:VCALENDAR